Workbook
Name CODE1: Tableau1[Code]
Name CODE2: Tableau3[Code]

Sheet Données
A1: Données facultatives
B2: Mois de PAYE
B3: NOM
B4: PRENOM
B5: N° SECU
B6: CODE MINISTERE
B7: GRADE
B8: ECHELON | E8: Pour toute nouvelle simulation assurez vous d'avoir bien effacé les données précedentes (notamment le montant des indemnités…)
B9: DDFIP DE
A12: Rémunération de base
B13: INDICE
B14: ou Forfait | D14: =IF(C14*C13=0,"","ERREUR INDIQUER INDICE OU FORFAIT")
B15: Indemnité de Résidence
B16: Quotité
B17: =IF(C16="Temps Partiel","Quotité temps partiel","")
B18: =IF(C16="Temps Incomplet","Quotité temps incomplet","")
B19: NBI
B20: Statut
B21: Si Fonctionnaire indiquer catégorie
B22: Si SFT nombre enfants
A24: Indemnités non Imposables et non soumises à cotisations
A25: Code Indemnité | B25: Libellé | C25: Montant | E25: AJOUTER UNE INDEMNITE
B26: =IFERROR(VLOOKUP(A26,Tableau1[],2,FALSE),"")
B27: =IFERROR(VLOOKUP(A27,Tableau1[],2,FALSE),"")
B28: =IFERROR(VLOOKUP(A28,Tableau1[],2,FALSE),"")
A29: Total | C29: =SUM(C26:C28) -> 0
A31: Indemnités Imposables et soumises à cotisations
A32: Code Indemnité | B32: Libellé | C32: Montant
B33: =IFERROR(VLOOKUP(A33,Tableau3[],2,FALSE),"")
B34: =IFERROR(VLOOKUP(A34,Tableau3[],2,FALSE),"")
B35: =IFERROR(VLOOKUP(A35,Tableau3[],2,FALSE),"")
B36: =IFERROR(VLOOKUP(A36,Tableau3[],2,FALSE),"")
B37: =IFERROR(VLOOKUP(A37,Tableau3[],2,FALSE),"")
A38: Total | C38: =SUM(C33:C37) -> 0
A41: Protection Sociale Complémentaire | C41: NON | E41: Pour toute nouvelle simulation assurez vous d'avoir bien effacé les données précedentes (notamment le montant des indemnités…)
A42: 0976-0980 | B42: Cotisation d'Equillibre (Valeur Socle)
A43: 0977 | B43: Taux Part Solidaire
A44: 0978 | B44: Taux Part Action Sociale
A45: 0979 | B45: Taux Part Aide retraités
A46: 2483 | B46: Participation Employeur aux Options
A47: 2510 | B47: Participation Employeur à la Prévoyance
A48: Total soumis à CSG/CRDS | C48: =IF(C41="OUI",C42/2+C46+C47,0) -> 0
A50: Prélèvement à la source
B51: Taux impot
A53: A REMPLIR EN FONCTION DES CAS…..
A54: Ticket Restaurants | B54: Contribution salariale du mois
B55: Taux employeur
A56: Avantages en Nature | C56: 0
A57: taux assurance chômage (cotisation patronale) VOIR LISTE DEROULANTE si concerné | C57: 0
A59: taux versement mobilité (cotisation patronale)
A62: Pour génerer le bulletin de paie, cliquez sur l'onglet correspondant en bas de la feuille,
A66: PUIS….
A68: cliquer sur le filtre en G11 et répondez OK

Sheet Liste Indemnités
A3: INDEMNITES NON IMPOSABLES ET NON SOUMISES A COTISATIONS | D3: INDEMNITES IMPOSABLES ET SOUMISES A COTISATIONS
G6: RETOURNER A LA SAISIE DE DONNEES
A8: Code | B8: Libellé | D8: Code | E8: Libellé
A9: 0033 | B9: REMBOURSEMENT DU TRAJET DOM TRAVAIL | D9: 0362 | E9: COMPLEMENT REMUNERATION
A10: 0039 | B10: REMBOURSEMENT DU TRAJET DOM TRAVAIL | D10: 1420 | E10: CET CATEGORIE A
A11: 0041 | B11: FORFAIT MOBILITE DURABLE | D11: 1793 | E11: IFSE
A12: 0042 | B12: INDEMNITE TELETRAVAIL | D12: 1794 | E12: CIA
D13: 2206 | E13: INDEMNITE COMPENSATRICE CSG
D14: 2209 | E14: INDEMNITE COMPENSATRICE CSG
A16: Pour ajouter une indemnité, placez vous juste en dessous de la dernière ligne remplie et si besoin, pour mettre dans l'ordre, il suffit de cliquer sur TRIER qui se situe dans la case code
A20: et ensuite cliquer sur

Sheet Fonctionnaire
B1: DDFIP | E1: BULLETIN DE PAYE | F1: BULLETIN DE PAYE
B2: DE
B3: =Données!C9 -> 0 | F3: MOIS DE | G3: =Données!C2 -> 0
A5: AFFECTATION | F5: LIBELLE | L5: SIRET
A6: SIMULATION à titre indicative, n'engage pas la responsabilité de FPMD FORMATIONS
A7: IDENTIFICATION | F7: GRADE | G7: efts à charge | I7: INDICE OU | K7: TAUX HORAIRE
A8: M I N. | D8: N°DOS | H8: ÉCH. | I8: NB. D' HEURES | K8: OU NBI | L8: TEMPS PARTIEL
A9: =Données!C6 -> 0 | B9: =Données!C5 -> 0 | F9: =Données!C7 -> 0 | G9: =Données!C22 -> 0 | H9: =Données!C8 -> 0 | I9: =Données!C13 -> 0 | K9: =Données!C19 -> 0 | L9: =Valeurs!F1 -> 1
A10: CODE ÉLÉMENTS À PAYER À DÉDUIRE POUR INFORMAT
A11: 101000 | B11: TRAITEMENT BRUT € | H11: =I9*Valeurs!C2*Valeurs!F1 -> 0
A12: 101050 | B12: RETENUE PC | J12: =H11*Valeurs!C8 -> 0
A13: =IF(Données!C19=0,"",101053) | B13: =IF(Données!C19=0,"","RETENUE PC NBI") | J13: =IF(Données!C19=0,"",H14*Valeurs!C8)
A14: =IF(Données!C19=0,"",101070) | B14: =IF(Données!C19=0,"","TRAITEMENT BRUT NBI") | H14: =IF(Données!C19=0,0,Données!C19*Valeurs!C2*Valeurs!F1) -> 0
A15: =IF(Données!C15=0,"",102000) | B15: =IF(Données!C15=0,"","INDEMNITE DE RESIDENCE") | H15: =Données!C15*(Fonctionnaire!H11+H14) -> 0 | I15: 45
A16: 104000 | B16: =IF(Données!C22=0,"","SUPPLEMENT FAMILIAL DE TRAITEMENT") | H16: =Valeurs!F5 -> 0
A17: =IF(Données!C26=0,"",200000+Données!A26) | B17: =IF(Données!C26=0,"",UPPER(Données!B26)) | H17: =IF(Données!C26=0,0,Données!C26) -> 0
A18: =IF(Données!C27=0,"",200000+Données!A27) | B18: =IF(Données!C27=0,"",UPPER(Données!B27)) | H18: =IF(Données!C27=0,0,Données!C27) -> 0
A19: =IF(Données!A28=0,"",200000+Données!A28) | B19: =IF(Données!C28=0,"",UPPER(Données!B28)) | H19: =IF(Données!C28=0,0,Données!C28) -> 0
A20: 200136 | B20: =IF(Données!C56=0,"","AVANTAGES EN NATURE") | L20: =Données!C56 -> 0
A21: =IF(Données!C33=0,"",200000+Données!A33) | B21: =IF(Données!C33=0,"",UPPER(Données!B33)) | H21: =IF(Données!A33=0,"",Données!C33)
A22: =IF(Données!A34=0,"",200000+Données!A34) | B22: =IF(Données!C34=0,"",UPPER(Données!B34)) | H22: =IF(Données!A34=0,"",Données!C34)
A23: =IF(Données!A35=0,"",200000+Données!A35) | B23: =IF(Données!C35=0,"",UPPER(Données!B35)) | H23: =IF(Données!A35=0,"",Données!C35)
A24: =IF(Données!A36=0,"",200000+Données!A36) | B24: =IF(Données!C36=0,"",UPPER(Données!B36)) | H24: =IF(Données!A36=0,"",Données!C36)
A25: =IF(Données!A37=0,"",200000+Données!A37) | B25: =IF(Données!C37=0,"",UPPER(Données!B37)) | H25: =IF(Données!A37=0,"",Données!C37)
A26: =IF(Données!A46=0,"",200000+Données!A46) -> 202483 | B26: =IF(Données!C46=0,"",UPPER(Données!B46)) | H26: =IF(Données!A46=0,"",Données!C46) -> 0
A27: =IF(Données!A47=0,"",200000+Données!A47) -> 202510 | B27: =IF(Données!C47=0,"",UPPER(Données!B47)) | H27: =IF(Données!A47=0,"",Données!C47) -> 0
A28: 401201 | B28: C.S.G. NON DEDUCTIBLE € | J28: =Valeurs!F12*Valeurs!F7 -> 0 | O28: cliquer sur le filtre en G11 et répondez OK
A29: 401301 | B29: C.S.G. DEDUCTIBLE € | J29: =Valeurs!F12*Valeurs!F8 -> 0
A30: 401501 | B30: C.R.D.S. € | J30: =Valeurs!F12*Valeurs!F9 -> 0
A31: 403301 | B31: COTIS PATRON. ALLOC FAMIL € | L31: =B58*Valeurs!D13 -> 0
A32: 403397 | B32: COT PAT AF MAJORATION | L32: =B58*Valeurs!D18 -> 0
A33: 403501 | B33: COT PAT FNAL DEPLAFONNEE € | L33: =B58*Valeurs!D14 -> 0
A34: 403801 | B34: CONT SOLIDARITE AUTONOMIE € | L34: =B58*Valeurs!D15 -> 0
A35: 404001 | B35: COT PAT MALADIE DEPLAFON € | L35: =B58*Valeurs!D16 -> 0
A36: 411050 | B36: CONTRIB PC | L36: =H11*Valeurs!D8 -> 0
A37: 411053 | B37: =IF(Données!C19=0,"","CONTRIB PC NBI") | L37: =H14*Valeurs!D8 -> 0
A38: 411058 | B38: CONTRIBUTION ATI | L38: =H11*Valeurs!D17 -> 0
A39: 415000 | B39: =IF(Données!C54=0,"","COT PAT TITRES RESTAURANT") | L39: =J43*Données!C55/(1-Données!C55) -> 0
A40: 501080 | B40: COT SAL RAFP € | J40: =0.05*MIN(0.2*H11,Données!C38+Données!C56+H15+H16-Valeurs!F2) -> 0
A41: 501180 | B41: COT PAT RAFP € | L41: =J40 -> 0
A42: 554500 | B42: COT PAT VST MOBILITE € | L42: =B58*Données!C59 -> 0
A43: 559000 | B43: =IF(Données!C54=0,"","TITRES-RESTAURANTS") | J43: =Données!C54 -> 0
A44: 604972 | B44: =IF(J44=0,"","TRANSFERT PRIMES POINTS") | J44: =Valeurs!F2 -> 0
A45: 720176 | B45: =IF(J45=0,"","MUTUELLE PART FORFAIT.") | J45: =IF(Données!C41="OUI",Données!C42*0.2,0) -> 0
A46: 720177 | B46: =IF(J46=0,"","MUTUELLE PART SOLIDAIRE") | J46: =IF(Données!C41="OUI",MIN(Valeurs!C3,Fonctionnaire!J30/0.005),0)*Données!C43 -> 0
A47: 720178 | B47: =IF(J47=0,"","MUTUELLE ACTION SOCIALE") | J47: =(J46+J45)*Données!C44 -> 0
A48: 720179 | B48: =IF(J48=0,"","MUTUELLE AIDE RETRAITES") | J48: =(J45+J46)*Données!C45 -> 0
A49: 720180 | B49: =IF(L49=0,"","MUTUELLE PART EMPLOYEUR") | L49: =IF(Données!C41="OUI",Données!C42/2,0) -> 0
A50: 11100 | B50: NET A PAYER AVANT IMPOT SUR LE REVENU € | L50: =H55-SUM(J12:K48) -> 0
A51: 11300 | B51: MONTANT NET SOCIAL | L51: =L50-H26-H27+L20+J43-Données!C29 -> 0
A52: 558000 | B52: IMPOT SUR LE REVENU PRELEVE A LA SOURCE € | J52: =Données!C51*B60 -> 0
B53: TAUX PERSONNALISE € | C53: =Données!C51 -> 0
B54: €
B55: Numéro sécurité sociale | D55: =H55+L55-J44 -> 0 | F55: TOTAUX DU MOIS | H55: =SUM(H11:H28) -> 0 | J55: =SUM(J11:J53) -> 0 | L55: =SUM(L31:L49) -> 0
B56: =B9 -> 0 | D56: COUT TOTAL EMPLOYEUR | F56: NET A PAYER | I56: =L50-J52 -> 0 | L56: TOTAL CHARGE PATRONALE
A57: BASE SS DE L' ANNÉE | B57: BASE SS DU MOIS
B58: =H11+H14 -> 0
A59: MONTANT IMPO ANNEE | B59: MONTANT IMPOSABLE DU MOIS | F59: =Données!C3 -> 0 | H59: =Données!C4 -> 0
B60: =L50+J30+J28+L49+J47+J48+J43+L20-H17-H18-H19 -> 0
A61: COMPTABLE ASSIGNATAIRE

Sheet Agent Non Titulaire
B1: DDFIP | E1: BULLETIN DE PAYE | F1: BULLETIN DE PAYE
B2: DE
B3: =Données!C9 -> 0 | F3: MOIS DE | G3: =Données!C2 -> 0
A5: AFFECTATION | F5: LIBELLE | L5: SIRET
A6: SIMULATION à titre indicative, n'engage pas la responsabilité de FPMD FORMATIONS
A7: IDENTIFICATION | F7: GRADE | G7: efts à charge | I7: INDICE OU | K7: TAUX HORAIRE
A8: M I N. | D8: N°DOS | H8: ÉCH. | I8: NB. D' HEURES | K8: OU NBI | L8: TEMPS PARTIEL
A9: =Données!C6 -> 0 | B9: =Données!C5 -> 0 | F9: =Données!C7 -> 0 | G9: =Données!C22 -> 0 | H9: =Données!C8 -> 0 | I9: =Données!C13 -> 0 | K9: =Données!C19 -> 0 | L9: =Valeurs!F1 -> 1
A10: CODE ÉLÉMENTS À PAYER À DÉDUIRE POUR INFO
A11: 101000 | B11: TRAITEMENT BRUT € | H11: =MAX(I9*Valeurs!C2,Données!C14)*Valeurs!F1 -> 0
A12: =IF(Données!C15=0,"",102000) | B12: =IF(Données!C15=0,"","INDEMNITE DE RESIDENCE") | H12: =Données!C15*('Agent Non Titulaire'!H11) -> 0 | I12: 45
A13: 104000 | B13: =IF(Données!C22=0,"","SUPPLEMENT FAMILIAL DE TRAITEMENT") | H13: =Valeurs!F5 -> 0
A14: =IF(Données!A26=0,"",200000+Données!A26) | B14: =IF(Données!C26=0,"",UPPER(Données!B26)) | H14: =Données!C26 -> 0
A15: =IF(Données!A27=0,"",200000+Données!A27) | B15: =IF(Données!C27=0,"",UPPER(Données!B27)) | H15: =Données!C27 -> 0
A16: =IF(Données!A28=0,"",200000+Données!A28) | B16: =IF(Données!C28=0,"",UPPER(Données!B28)) | H16: =Données!C28 -> 0
A17: 200136 | B17: =IF(Données!C56=0,"","AVANTAGES EN NATURE") | L17: =Données!C56 -> 0
A18: =IF(Données!A33=0,"",200000+Données!A33) | B18: =IF(Données!C33=0,"",UPPER(Données!B33)) | H18: =IF(Données!A33=0,"",Données!C33)
A19: =IF(Données!A34=0,"",200000+Données!A34) | B19: =IF(Données!C34=0,"",UPPER(Données!B34)) | H19: =IF(Données!A34=0,"",Données!C34)
A20: =IF(Données!A35=0,"",200000+Données!A35) | B20: =IF(Données!C35=0,"",UPPER(Données!B35)) | H20: =IF(Données!A35=0,"",Données!C35)
A21: =IF(Données!A36=0,"",200000+Données!A36) | B21: =IF(Données!C36=0,"",UPPER(Données!B36)) | H21: =IF(Données!A36=0,"",Données!C36)
A22: =IF(Données!A37=0,"",200000+Données!A37) | B22: =IF(Données!C37=0,"",UPPER(Données!B37)) | H22: =IF(Données!A37=0,"",Données!C37)
A23: =IF(Données!A46=0,"",200000+Données!A46) -> 202483 | B23: =IF(Données!C46=0,"",UPPER(Données!B46)) | H23: =IF(Données!A46=0,"",Données!C46) -> 0 | N23: cliquer sur le filtre en G11 et répondez OK
A24: =IF(Données!A47=0,"",200000+Données!A47) -> 202510 | B24: =IF(Données!C47=0,"",UPPER(Données!B47)) | H24: =IF(Données!A47=0,"",Données!C47) -> 0
A25: 401110 | B25: COT SAL VIEILLESSE PLAFON € | J25: =Valeurs!F15*Valeurs!C9 -> 0
A26: 401210 | B26: C.S.G. NON DEDUCTIBLE € | J26: =Valeurs!F14*Valeurs!F7 -> 0
A27: 401310 | B27: C.S.G. DEDUCTIBLE € | J27: =Valeurs!F14*Valeurs!F8 -> 0
A28: 401510 | B28: C.R.D.S. € | J28: =Valeurs!F14*Valeurs!F9 -> 0
A29: 402110 | B29: COT SAL VIEILLESSE DEPLAF € | J29: =Valeurs!C10*Valeurs!F16 -> 0
A30: 403310 | B30: COTIS PATRON. ALLOC FAMIL € | L30: =Valeurs!F16*Valeurs!D13 -> 0
A31: 403398 | B31: COT PAT AF MAJORATION | L31: =Valeurs!D18*Valeurs!F16 -> 0
A32: 403412 | B32: =IF(L32=0,"","COT PATR ACCIDENT TRAVAIL") | L32: =IF(Données!C20="Contractuel SS 12",Valeurs!D19*Valeurs!F16,0) -> 0
A33: 403510 | B33: COT PAT FNAL DEPLAFONNEE € | L33: =Valeurs!F16*Valeurs!D14 -> 0
A34: 403610 | B34: COT PAT VIEILLESSE PLAF € | L34: =Valeurs!D9*Valeurs!F15 -> 0
A35: 403710 | B35: COT PAT VIEILLESSE DEPLAF € | L35: =Valeurs!F16*Valeurs!D10 -> 0
A36: 403810 | B36: CONT SOLIDARITE AUTONOMIE € | L36: =Valeurs!D15*Valeurs!F16 -> 0
A37: 404098 | B37: COT PAT MALADIE DEPLAFON € | L37: =Valeurs!D20*Valeurs!F16 -> 0
A38: 404098 | B38: COT PAT MAL MAJORATION € | L38: =Valeurs!D21*Valeurs!F16 -> 0
A39: 404598 | B39: FORFAIT SOCIAL | L39: =Valeurs!D22*Données!C48 -> 0
A40: 415000 | B40: =IF(Données!C54=0,"","COT PAT TITRES RESTAURANT") | L40: =J47*Données!C55/(1-Données!C55) -> 0
A41: 501010 | B41: COT SAL IRCANTEC TR.A € | J41: =Valeurs!C11*Valeurs!F18 -> 0
A42: 501110 | B42: COT PAT IRCANTEC TR.A € | L42: =Valeurs!D11*Valeurs!F18 -> 0
A43: 502010 | B43: =IF(J43=0,"","COT SAL IRCANTEC TR.B") | J43: =Valeurs!C12*Valeurs!F19 -> 0
A44: 502110 | B44: =IF(L44=0,"","COT PAT IRCANTEC TR.B") | L44: =Valeurs!D12*Valeurs!F19 -> 0
A45: 551120 | B45: =IF(L45=0,"","COT PAT ASSURANCE CHOMAGE") | L45: =Données!C57*Valeurs!F16 -> 0
A46: 554500 | B46: COT PAT VST MOBILITE € | L46: =Valeurs!D24*Valeurs!F16 -> 0
A47: 559000 | B47: =IF(Données!C54=0,"","TITRES-RESTAURANTS") | J47: =Données!C54 -> 0
A48: 720176 | B48: =IF(J48=0,"","MUTUELLE PART FORFAIT.") | J48: =IF(Données!C41="OUI",Données!C42*0.2,0) -> 0
A49: 720177 | B49: =IF(J49=0,"","MUTUELLE PART SOLIDAIRE") | J49: =IF(Données!C41="OUI",MIN(Valeurs!C3,'Agent Non Titulaire'!J28/0.005),0)*Données!C43 -> 0
A50: 720178 | B50: =IF(J50=0,"","MUTUELLE ACTION SOCIALE") | J50: =(J49+J48)*Données!C44 -> 0
A51: 720179 | B51: =IF(J51=0,"","MUTUELLE AIDE RETRAITES") | J51: =(J48+J49)*Données!C45 -> 0
A52: 720180 | B52: =IF(L52=0,"","MUTUELLE PART EMPLOYEUR") | L52: =IF(Données!C41="OUI",Données!C42/2,0) -> 0
A53: 11100 | B53: NET A PAYER AVANT IMPOT SUR LE REVENU € | L53: =H58-SUM(J12:K51) -> 0
A54: 11300 | B54: MONTANT NET SOCIAL | L54: =L53-H23-H24+J47+L17-Données!C29 -> 0
A55: 558000 | B55: IMPOT SUR LE REVENU PRELEVE A LA SOURCE € | J55: =Données!C51*B63 -> 0
B56: TAUX PERSONNALISE € | C56: =Données!C51 -> 0
B57: €
B58: Numéro sécurité sociale | D58: =H58+L58 -> 0 | F58: TOTAUX DU MOIS | H58: =SUM(H11:H26) -> 0 | J58: =SUM(J11:J56) -> 0 | L58: =SUM(L30:L52) -> 0
B59: =B9 -> 0 | D59: COUT TOTAL EMPLOYEUR | F59: NET A PAYER | I59: =L53-J55 -> 0 | L59: TOTAL CHARGE PATRONALE
A60: BASE SS DE L' ANNÉE | B60: BASE SS DU MOIS
B61: =Valeurs!F16 -> 0
A62: MONTANT IMPO ANNEE | B62: MONTANT IMPOSABLE DU MOIS | F62: =Données!C3 -> 0 | H62: =Données!C4 -> 0
B63: =L53+J28+J26+L52+J50+J51+J47+L17-H14-H15-H16 -> 0

Sheet Valeurs
B1: Valeur Point Annuel | C1: 59.0734 | E1: Quotité | F1: =IF(Données!C16="Temps Incomplet",Données!C18,IF(Données!C16="Temps Partiel",Données!C17,100%)) -> 1
B2: Valeur Point | C2: =C1/12 -> 4.9227833 | E2: TPP | F2: =F1*IF(Données!C21="A",32.42,IF(Données!C21="B",23.17,IF(Données!C21="C",13.92,0))) -> 0
B3: Plafond SECU | C3: 4005 | F3: =IF(Données!C22=0,0,IF(Données!C22=1,2.29,IF(Données!C22=2,10.67+0.03*Valeurs!C2*MEDIAN(Valeurs!C4,Valeurs!C5,Données!C13+Données!C19),15.24+4.57*(Données!C22-3)+((Données!C22-3)*0.06+0.08)*Valeurs!C2*MEDIAN(Données!C13+Données!C19,Valeurs!C4,Valeurs!C5))))*Valeurs!F1 -> 0
B4: Indice Plancher SFT | C4: 454 | F4: =IF(Données!C22=0,0,IF(Données!C22=1,2.29,IF(Données!C22=2,10.67+0.03*Valeurs!C2*Valeurs!C4,15.24+4.57*(Données!C22-3)+((Données!C22-3)*0.06+0.08)*Valeurs!C2*Valeurs!C4))) -> 0
B5: Indice Plafond SFT | C5: 722 | E5: Calcul SFT | F5: =IF(Données!C16="Temps Incomplet",Valeurs!F3,MAX(Valeurs!F4,Valeurs!F3)) -> 0
B7: TAUX | C7: Salarial | D7: Patronal | E7: CSG non déductible | F7: 0.024
B8: Pension Civile | C8: 0.111 | D8: 0.8228 | E8: CSG déductible | F8: 0.068
B9: Vieillesse plaf | C9: 0.069 | D9: 0.0855 | E9: CRDS | F9: 0.005
B10: Vieillesse déplaf | C10: 0.004 | D10: 0.0211
B11: Ircantec Tr A | C11: 0.0284 | D11: 0.0427
B12: Ircantec Tr B | C12: 0.0706 | D12: 0.1275 | E12: Base CSG Tit | F12: =(Données!C38+Données!C56-Valeurs!F2+Fonctionnaire!H11+Fonctionnaire!H14+Fonctionnaire!H15+Fonctionnaire!H16)*0.9825+Données!C48 -> 0
B13: Allocations Familiales | D13: 0.0345
B14: FNAL | D14: 0.005 | E14: Base CSG Non Tit | F14: =(Données!C38+Données!C56+'Agent Non Titulaire'!H11+'Agent Non Titulaire'!H12+'Agent Non Titulaire'!H13)*0.9825+Données!C48 -> 0
B15: Solidarite Autonomie | D15: 0.003 | E15: Base SS Plaf | F15: =MIN(F16,Valeurs!C3) -> 0
B16: Maladie Déplafonnée | D16: 0.097 | E16: Base SS Déplaf | F16: =Données!C38+Données!C56+'Agent Non Titulaire'!H11+'Agent Non Titulaire'!H12+'Agent Non Titulaire'!H13 -> 0
B17: Allocation Temp Invalidité | D17: 0.0032 | E17: Base IRC | F17: =Données!C38+Données!C56+'Agent Non Titulaire'!H11+'Agent Non Titulaire'!H12 -> 0
B18: Allocations Familiales MAJO | D18: 0.018 | E18: Base IRC Tr A | F18: =MIN(F17,Valeurs!C3) -> 0
B19: Accident du Travail | D19: 0.0088 | E19: Base IRC Tr B | F19: =IF(F17>Valeurs!C3,F17-Valeurs!C3,0) -> 0
B20: Maladie Déplafonnée contra | D20: 0.07
B21: Maladie Déplafonnée majo | D21: 0.06
B22: Forfait Social | D22: 0.08
B23: CHOMAGE | D23: 0.04
B24: Versement Mobilité (saisie données) | D24: =Données!C59 -> 0
